BEGIN:VCALENDAR
VERSION:2.0
PRODID:-//Rotary - ECPv4.6.11.1//NONSGML v1.0//EN
CALSCALE:GREGORIAN
METHOD:PUBLISH
X-WR-CALNAME:Rotary
X-ORIGINAL-URL:https://www.illawarrasunrise.org.au
X-WR-CALDESC:Events for Rotary
BEGIN:VEVENT
DTSTART;TZID=Australia/Sydney:20180227T070000
DTEND;TZID=Australia/Sydney:20180227T083000
DTSTAMP:20180226T064628
CREATED:20180220T092619Z
LAST-MODIFIED:20180220T093426Z
UID:3249-1519714800-1519720200@www.illawarrasunrise.org.au
SUMMARY:Weekly Meeting
DESCRIPTION:Meeting \n
URL:https://www.illawarrasunrise.org.au/event/weekly-meeting-18/2018-02-27/
LOCATION:2-14 Cliff Road\, Wollongong\, NSW\, 2500\, Australia
GEO:-34.414509;150.90027
X-APPLE-STRUCTURED-LOCATION;VALUE=URI;X-ADDRESS=2-14 Cliff Road Wollongong NSW 2500 Australia;X-APPLE-RADIUS=500;X-TITLE=2-14 Cliff Road:geo:150.90027,-34.414509
CATEGORIES:Meetings
ATTACH;FMTTYPE=image/png:https://www.illawarrasunrise.org.au/wp-content/uploads/2016/06/weeklymeet.png
END:VEVENT
BEGIN:VEVENT
DTSTART;TZID=Australia/Sydney:20180302T070000
DTEND;TZID=Australia/Sydney:20180302T083000
DTSTAMP:20180226T064628
CREATED:20180220T092619Z
LAST-MODIFIED:20180220T092619Z
UID:3253-1519974000-1519979400@www.illawarrasunrise.org.au
SUMMARY:Weekly Meeting
DESCRIPTION:Meeting \n
URL:https://www.illawarrasunrise.org.au/event/weekly-meeting-18/2018-03-02/
LOCATION:2-14 Cliff Road\, Wollongong\, NSW\, 2500\, Australia
GEO:-34.414509;150.90027
X-APPLE-STRUCTURED-LOCATION;VALUE=URI;X-ADDRESS=2-14 Cliff Road Wollongong NSW 2500 Australia;X-APPLE-RADIUS=500;X-TITLE=2-14 Cliff Road:geo:150.90027,-34.414509
CATEGORIES:Meetings
ATTACH;FMTTYPE=image/png:https://www.illawarrasunrise.org.au/wp-content/uploads/2016/06/weeklymeet.png
END:VEVENT
BEGIN:VEVENT
DTSTART;TZID=Australia/Sydney:20180309T070000
DTEND;TZID=Australia/Sydney:20180309T083000
DTSTAMP:20180226T064628
CREATED:20180214T003415Z
LAST-MODIFIED:20180221T211445Z
UID:3226-1520578800-1520584200@www.illawarrasunrise.org.au
SUMMARY:Aleks Racklewicz  from PROPEL TECHNOLOGIES Make Your Data Safe
DESCRIPTION: \n
URL:https://www.illawarrasunrise.org.au/event/aleks-racklewicz-from-propel-technologies-make-your-data-safe/
LOCATION:NSW
CATEGORIES:Speakers
END:VEVENT
BEGIN:VEVENT
DTSTART;TZID=Australia/Sydney:20180309T070000
DTEND;TZID=Australia/Sydney:20180309T083000
DTSTAMP:20180226T064628
CREATED:20180220T092619Z
LAST-MODIFIED:20180220T092619Z
UID:3254-1520578800-1520584200@www.illawarrasunrise.org.au
SUMMARY:Weekly Meeting
DESCRIPTION:Meeting \n
URL:https://www.illawarrasunrise.org.au/event/weekly-meeting-18/2018-03-09/
LOCATION:2-14 Cliff Road\, Wollongong\, NSW\, 2500\, Australia
GEO:-34.414509;150.90027
X-APPLE-STRUCTURED-LOCATION;VALUE=URI;X-ADDRESS=2-14 Cliff Road Wollongong NSW 2500 Australia;X-APPLE-RADIUS=500;X-TITLE=2-14 Cliff Road:geo:150.90027,-34.414509
CATEGORIES:Meetings
ATTACH;FMTTYPE=image/png:https://www.illawarrasunrise.org.au/wp-content/uploads/2016/06/weeklymeet.png
END:VEVENT
BEGIN:VEVENT
DTSTART;TZID=Australia/Sydney:20180316T070000
DTEND;TZID=Australia/Sydney:20180316T083000
DTSTAMP:20180226T064628
CREATED:20180220T092619Z
LAST-MODIFIED:20180220T092619Z
UID:3255-1521183600-1521189000@www.illawarrasunrise.org.au
SUMMARY:Weekly Meeting
DESCRIPTION:Meeting \n
URL:https://www.illawarrasunrise.org.au/event/weekly-meeting-18/2018-03-16/
LOCATION:2-14 Cliff Road\, Wollongong\, NSW\, 2500\, Australia
GEO:-34.414509;150.90027
X-APPLE-STRUCTURED-LOCATION;VALUE=URI;X-ADDRESS=2-14 Cliff Road Wollongong NSW 2500 Australia;X-APPLE-RADIUS=500;X-TITLE=2-14 Cliff Road:geo:150.90027,-34.414509
CATEGORIES:Meetings
ATTACH;FMTTYPE=image/png:https://www.illawarrasunrise.org.au/wp-content/uploads/2016/06/weeklymeet.png
END:VEVENT
BEGIN:VEVENT
DTSTART;TZID=Australia/Sydney:20180320T180000
DTEND;TZID=Australia/Sydney:20180320T200000
DTSTAMP:20180226T064628
CREATED:20180220T093141Z
LAST-MODIFIED:20180220T093141Z
UID:3251-1521568800-1521576000@www.illawarrasunrise.org.au
SUMMARY:Board Meeting March 2018
DESCRIPTION:Monthly board meeting \n
URL:https://www.illawarrasunrise.org.au/event/board-meeting-march-2018/
LOCATION:NSW
CATEGORIES:Board
ATTACH;FMTTYPE=image/jpeg:https://www.illawarrasunrise.org.au/wp-content/uploads/2016/03/images-e1499142868602.jpg
END:VEVENT
BEGIN:VEVENT
DTSTART;TZID=Australia/Sydney:20180323T070000
DTEND;TZID=Australia/Sydney:20180323T083000
DTSTAMP:20180226T064628
CREATED:20180220T092619Z
LAST-MODIFIED:20180220T092619Z
UID:3256-1521788400-1521793800@www.illawarrasunrise.org.au
SUMMARY:Weekly Meeting
DESCRIPTION:Meeting \n
URL:https://www.illawarrasunrise.org.au/event/weekly-meeting-18/2018-03-23/
LOCATION:2-14 Cliff Road\, Wollongong\, NSW\, 2500\, Australia
GEO:-34.414509;150.90027
X-APPLE-STRUCTURED-LOCATION;VALUE=URI;X-ADDRESS=2-14 Cliff Road Wollongong NSW 2500 Australia;X-APPLE-RADIUS=500;X-TITLE=2-14 Cliff Road:geo:150.90027,-34.414509
CATEGORIES:Meetings
ATTACH;FMTTYPE=image/png:https://www.illawarrasunrise.org.au/wp-content/uploads/2016/06/weeklymeet.png
END:VEVENT
BEGIN:VEVENT
DTSTART;TZID=Australia/Sydney:20180330T070000
DTEND;TZID=Australia/Sydney:20180330T083000
DTSTAMP:20180226T064628
CREATED:20180220T092619Z
LAST-MODIFIED:20180220T092619Z
UID:3257-1522393200-1522398600@www.illawarrasunrise.org.au
SUMMARY:Weekly Meeting
DESCRIPTION:Meeting \n
URL:https://www.illawarrasunrise.org.au/event/weekly-meeting-18/2018-03-30/
LOCATION:2-14 Cliff Road\, Wollongong\, NSW\, 2500\, Australia
GEO:-34.414509;150.90027
X-APPLE-STRUCTURED-LOCATION;VALUE=URI;X-ADDRESS=2-14 Cliff Road Wollongong NSW 2500 Australia;X-APPLE-RADIUS=500;X-TITLE=2-14 Cliff Road:geo:150.90027,-34.414509
CATEGORIES:Meetings
ATTACH;FMTTYPE=image/png:https://www.illawarrasunrise.org.au/wp-content/uploads/2016/06/weeklymeet.png
END:VEVENT
BEGIN:VEVENT
DTSTART;TZID=Australia/Sydney:20180406T080000
DTEND;TZID=Australia/Sydney:20180408T170000
DTSTAMP:20180226T064628
CREATED:20180131T033520Z
LAST-MODIFIED:20180131T033520Z
UID:3203-1523001600-1523206800@www.illawarrasunrise.org.au
SUMMARY:Rypen 2018
DESCRIPTION:
URL:https://www.illawarrasunrise.org.au/event/rypen-2018/
LOCATION:352 Cobbitty Road\, Cobbitty\, NSW\, 2570\, Australia
GEO:-34.01778;150.689538
X-APPLE-STRUCTURED-LOCATION;VALUE=URI;X-ADDRESS=352 Cobbitty Road Cobbitty NSW 2570 Australia;X-APPLE-RADIUS=500;X-TITLE=352 Cobbitty Road:geo:150.689538,-34.01778
CATEGORIES:Event
ATTACH;FMTTYPE=image/jpeg:https://www.illawarrasunrise.org.au/wp-content/uploads/2016/02/2296ee53-a470-4dbe-9a68-ea8d66dcff9c.jpg
END:VEVENT
BEGIN:VEVENT
DTSTART;TZID=Australia/Sydney:20180422T120000
DTEND;TZID=Australia/Sydney:20180422T170000
DTSTAMP:20180226T064628
CREATED:20180220T234238Z
LAST-MODIFIED:20180220T234238Z
UID:3271-1524398400-1524416400@www.illawarrasunrise.org.au
SUMMARY:Fairy Meadow Rotary Fund Raiser
DESCRIPTION:
URL:https://www.illawarrasunrise.org.au/event/fairy-meadow-rotary-fund-raiser/
LOCATION:NSW
CATEGORIES:Event
ATTACH;FMTTYPE=image/jpeg:https://www.illawarrasunrise.org.au/wp-content/uploads/2016/01/barefootbowls.jpg
END:VEVENT
BEGIN:VEVENT
DTSTART;TZID=Australia/Sydney:20180505T183000
DTEND;TZID=Australia/Sydney:20180505T223000
DTSTAMP:20180226T064628
CREATED:20180220T093841Z
LAST-MODIFIED:20180220T093841Z
UID:3258-1525545000-1525559400@www.illawarrasunrise.org.au
SUMMARY:Swing into Wings
DESCRIPTION:Join us for a great night at HARS \n
URL:https://www.illawarrasunrise.org.au/event/swing-into-wings-2/
LOCATION:Illawarra Airport\, Albion Park\, nsw\, 2529\, Australia
GEO:-34.5600461;150.7899437
X-APPLE-STRUCTURED-LOCATION;VALUE=URI;X-ADDRESS=Illawarra Airport Albion Park nsw 2529 Australia;X-APPLE-RADIUS=500;X-TITLE=Illawarra Airport:geo:150.7899437,-34.5600461
CATEGORIES:Event
ATTACH;FMTTYPE=image/jpeg:https://www.illawarrasunrise.org.au/wp-content/uploads/2017/03/SwingLogo.jpg
END:VEVENT
BEGIN:VEVENT
DTSTART;TZID=Australia/Sydney:20180519T080000
DTEND;TZID=Australia/Sydney:20180519T170000
DTSTAMP:20180226T064628
CREATED:20180131T034150Z
LAST-MODIFIED:20180131T034150Z
UID:3206-1526716800-1526749200@www.illawarrasunrise.org.au
SUMMARY:MUNA 2018
DESCRIPTION:Verify date when finalaise (may be 26th) \n
URL:https://www.illawarrasunrise.org.au/event/muna-2018/
LOCATION:6 Maquarie Street\, Sydney\, Nsw\, 2000\, Australia
GEO:-33.8674389;151.2126434
X-APPLE-STRUCTURED-LOCATION;VALUE=URI;X-ADDRESS=6 Maquarie Street Sydney Nsw 2000 Australia;X-APPLE-RADIUS=500;X-TITLE=6 Maquarie Street:geo:151.2126434,-33.8674389
CATEGORIES:Event
ATTACH;FMTTYPE=image/png:https://www.illawarrasunrise.org.au/wp-content/uploads/2016/02/images.png
END:VEVENT
BEGIN:VEVENT
DTSTART;TZID=Australia/Sydney:20180520T080000
DTEND;TZID=Australia/Sydney:20180520T170000
DTSTAMP:20180226T064628
CREATED:20180220T094458Z
LAST-MODIFIED:20180220T094458Z
UID:3260-1526803200-1526835600@www.illawarrasunrise.org.au
SUMMARY:Ride 4 Rotary 2018
DESCRIPTION:Annual fund raiser \n
URL:https://www.illawarrasunrise.org.au/event/ride-4-rotary-2018/
LOCATION:NSW
CATEGORIES:Key event
ATTACH;FMTTYPE=image/jpeg:https://www.illawarrasunrise.org.au/wp-content/uploads/2017/03/R4R-2017-Tag-line-1.jpg
END:VEVENT
BEGIN:VEVENT
DTSTART;TZID=Australia/Sydney:20180812T080000
DTEND;TZID=Australia/Sydney:20180815T170000
DTSTAMP:20180226T064628
CREATED:20180131T034912Z
LAST-MODIFIED:20180131T034913Z
UID:3208-1534060800-1534352400@www.illawarrasunrise.org.au
SUMMARY:RYPEN 2018
DESCRIPTION:
URL:https://www.illawarrasunrise.org.au/event/rypen-2018-2/
LOCATION:1 Rathane Road\, Royal National Park\, NSW\, 2232\, Australia
GEO:-34.0714569;151.1047927
X-APPLE-STRUCTURED-LOCATION;VALUE=URI;X-ADDRESS=1 Rathane Road Royal National Park NSW 2232 Australia;X-APPLE-RADIUS=500;X-TITLE=1 Rathane Road:geo:151.1047927,-34.0714569
CATEGORIES:Event,New Generations
ATTACH;FMTTYPE=image/jpeg:https://www.illawarrasunrise.org.au/wp-content/uploads/2016/02/2296ee53-a470-4dbe-9a68-ea8d66dcff9c.jpg
END:VEVENT
END:VCALENDAR